BEGIN:VCALENDAR
PRODID:-//AT Content Types//AT Event//EN
VERSION:1.0
BEGIN:VEVENT
DTSTART:20130729T120000Z
DTEND:20130729T150000Z
DCREATED:20130726T110313Z
UID:ATEvent-bbd38a6b65c29807e6d5e068f4246fda
SEQUENCE:0
LAST-MODIFIED:20130726T110338Z
SUMMARY:Reunião da 2.ª Comissão
DESCRIPTION:Dia 29\, segunda-feira\, 08H30
LOCATION:Sala do Plenário
PRIORITY:3
TRANSP:0
END:VEVENT
END:VCALENDAR
